BEGIN:VCALENDAR
VERSION:2.0
PRODID:-//projectpreventar.org//NONSGML kigkonsult.se iCalcreator 2.30.10//
CALSCALE:GREGORIAN
METHOD:PUBLISH
UID:7a8cfd4f-5b76-4e5b-b592-a9f48e131a98
X-WR-CALDESC:
X-WR-RELCALID:8983379ccef6c5c40244586b82178cdd
X-WR-TIMEZONE:America/Chicago
BEGIN:VTIMEZONE
TZID:America/Chicago
BEGIN:STANDARD
TZNAME:CST
DTSTART:20221106T020000
TZOFFSETFROM:-0500
TZOFFSETTO:-0600
RDATE:20231105T020000
RDATE:20241103T020000
END:STANDARD
BEGIN:DAYLIGHT
TZNAME:CDT
DTSTART:20230312T020000
TZOFFSETFROM:-0600
TZOFFSETTO:-0500
RDATE:20240310T020000
RDATE:20250309T020000
END:DAYLIGHT
END:VTIMEZONE
BEGIN:VEVENT
UID:0857dd00-91ee-4fd5-b476-09aaeb0116d6
DTSTAMP:20260421T063839Z
DESCRIPTION:
DTSTART;TZID=America/Chicago:20231018T000000
DTEND;TZID=America/Chicago:20231018T235900
LOCATION:
SUMMARY:Youth Led Fact Fed Annual Conference - Benton
END:VEVENT
END:VCALENDAR
