BEGIN:VCALENDAR
VERSION:2.0
PRODID:-//projectpreventar.org//NONSGML kigkonsult.se iCalcreator 2.30.10//
CALSCALE:GREGORIAN
METHOD:PUBLISH
UID:2f81b43d-de2d-4cf5-90fd-0b24701c717c
X-WR-CALDESC:
X-WR-RELCALID:25698e970950fc577c9e1f110c94cb1c
X-WR-TIMEZONE:America/Chicago
BEGIN:VTIMEZONE
TZID:America/Chicago
BEGIN:STANDARD
TZNAME:CST
DTSTART:20221106T020000
TZOFFSETFROM:-0500
TZOFFSETTO:-0600
RDATE:20231105T020000
END:STANDARD
BEGIN:DAYLIGHT
TZNAME:CDT
DTSTART:20220313T020000
TZOFFSETFROM:-0600
TZOFFSETTO:-0500
RDATE:20230312T020000
RDATE:20240310T020000
END:DAYLIGHT
END:VTIMEZONE
BEGIN:VEVENT
UID:33cb6f92-a804-4c5f-8dd0-c85ef2e1916e
DTSTAMP:20260425T103429Z
DESCRIPTION:
DTSTART;TZID=America/Chicago:20230113T000000
DTEND;TZID=America/Chicago:20230113T235900
LOCATION:
SUMMARY:Ready. Set. Record. Closes
END:VEVENT
END:VCALENDAR
