BEGIN:VCALENDAR
VERSION:2.0
PRODID:-//projectpreventar.org//NONSGML kigkonsult.se iCalcreator 2.30.10//
CALSCALE:GREGORIAN
METHOD:PUBLISH
UID:b4abafaf-975a-485b-a866-773e50826bee
X-WR-CALDESC:
X-WR-RELCALID:f729b781f02fc09c9be55b170911f7c9
X-WR-TIMEZONE:America/Chicago
BEGIN:VTIMEZONE
TZID:America/Chicago
BEGIN:STANDARD
TZNAME:CST
DTSTART:20221106T020000
TZOFFSETFROM:-0500
TZOFFSETTO:-0600
RDATE:20231105T020000
END:STANDARD
BEGIN:DAYLIGHT
TZNAME:CDT
DTSTART:20220313T020000
TZOFFSETFROM:-0600
TZOFFSETTO:-0500
RDATE:20230312T020000
RDATE:20240310T020000
END:DAYLIGHT
END:VTIMEZONE
BEGIN:VEVENT
UID:d2752003-fcdc-48e0-8e86-9fdc91e648cb
DTSTAMP:20260424T101012Z
DESCRIPTION:
DTSTART;TZID=America/Chicago:20221117T000000
DTEND;TZID=America/Chicago:20221117T235900
LOCATION:
SUMMARY:Great American Smokeout
END:VEVENT
END:VCALENDAR
