BEGIN:VCALENDAR
VERSION:2.0
PRODID:-//projectpreventar.org//NONSGML kigkonsult.se iCalcreator 2.30.10//
CALSCALE:GREGORIAN
METHOD:PUBLISH
UID:87b4070a-b28a-4dc4-b975-00d9801edb09
X-WR-CALDESC:Meeting ID: 950 8343 1193\nPasscode: 585013\n\nDial by your lo
 cation\n        +1 312 626 6799 US (Chicago)  \nMeeting ID: 950 8343 1193
 \nPasscode: 585013\n\n\n
X-WR-RELCALID:c568ef122bae44b2e7056b4ea967151c
X-WR-TIMEZONE:America/Chicago
BEGIN:VTIMEZONE
TZID:America/Chicago
BEGIN:STANDARD
TZNAME:CST
DTSTART:20211107T020000
TZOFFSETFROM:-0500
TZOFFSETTO:-0600
RDATE:20221106T020000
RDATE:20231105T020000
END:STANDARD
BEGIN:DAYLIGHT
TZNAME:CDT
DTSTART:20220313T020000
TZOFFSETFROM:-0600
TZOFFSETTO:-0500
RDATE:20230312T020000
RDATE:20240310T020000
END:DAYLIGHT
END:VTIMEZONE
BEGIN:VEVENT
UID:0b3999c1-0e49-4122-99a7-279ffce562d8
DTSTAMP:20260423T152842Z
DESCRIPTION:Meeting ID: 950 8343 1193\nPasscode: 585013\n\nDial by your loc
 ation\n        +1 312 626 6799 US (Chicago)  \nMeeting ID: 950 8343 1193\n
 Passcode: 585013\n\n\n
DTSTART;TZID=America/Chicago:20221102T120000
DTEND;TZID=America/Chicago:20221102T123000
LOCATION:https://archildrens.zoom.us/j/95083431193?pwd=NE9PTEM0SlZrb0g4eFVi
 UzlZemM4QT09
SUMMARY:Project Prevent Statewide Meeting
END:VEVENT
END:VCALENDAR
