BEGIN:VCALENDAR
VERSION:2.0
PRODID:-//projectpreventar.org//NONSGML kigkonsult.se iCalcreator 2.30.10//
CALSCALE:GREGORIAN
METHOD:PUBLISH
UID:a2587ec8-df63-4a40-94ab-76ecb445570f
X-WR-CALDESC:
X-WR-RELCALID:e4b344ff2dbca85450912e83e02e9d22
X-WR-TIMEZONE:America/Chicago
BEGIN:VTIMEZONE
TZID:America/Chicago
BEGIN:STANDARD
TZNAME:CST
DTSTART:20211107T020000
TZOFFSETFROM:-0500
TZOFFSETTO:-0600
RDATE:20221106T020000
RDATE:20231105T020000
END:STANDARD
BEGIN:DAYLIGHT
TZNAME:CDT
DTSTART:20220313T020000
TZOFFSETFROM:-0600
TZOFFSETTO:-0500
RDATE:20230312T020000
RDATE:20240310T020000
END:DAYLIGHT
END:VTIMEZONE
BEGIN:VEVENT
UID:9050018d-773b-483d-aa79-ea3e9de1d4ad
DTSTAMP:20260423T132913Z
DESCRIPTION:
DTSTART;TZID=America/Chicago:20221028T000000
DTEND;TZID=America/Chicago:20221028T235900
LOCATION:
SUMMARY:In-Person Conference Registration Closes
END:VEVENT
END:VCALENDAR
