BEGIN:VCALENDAR
VERSION:2.0
PRODID:-//projectpreventar.org//NONSGML kigkonsult.se iCalcreator 2.30.10//
CALSCALE:GREGORIAN
METHOD:PUBLISH
UID:ca74bee4-014a-4519-a009-d0a18d97d00b
X-WR-CALDESC:
X-WR-RELCALID:d3797df0aad2e21fc534d9e45387d75e
X-WR-TIMEZONE:America/Chicago
BEGIN:VTIMEZONE
TZID:America/Chicago
BEGIN:STANDARD
TZNAME:CST
DTSTART:20211107T020000
TZOFFSETFROM:-0500
TZOFFSETTO:-0600
RDATE:20221106T020000
RDATE:20231105T020000
END:STANDARD
BEGIN:DAYLIGHT
TZNAME:CDT
DTSTART:20220313T020000
TZOFFSETFROM:-0600
TZOFFSETTO:-0500
RDATE:20230312T020000
RDATE:20240310T020000
END:DAYLIGHT
END:VTIMEZONE
BEGIN:VEVENT
UID:14a347ac-1ec5-4012-b85b-e8f90c7d0b59
DTSTAMP:20260423T132659Z
DESCRIPTION:
DTSTART;TZID=America/Chicago:20221023T000000
DTEND;TZID=America/Chicago:20221029T235900
LOCATION:https://www.redribbon.org/
SUMMARY:Red Ribbon Week
END:VEVENT
END:VCALENDAR
