BEGIN:VCALENDAR
VERSION:2.0
PRODID:-//projectpreventar.org//NONSGML kigkonsult.se iCalcreator 2.30.10//
CALSCALE:GREGORIAN
METHOD:PUBLISH
UID:8ef4e978-b8a5-4692-8146-d269b5bd8a22
X-WR-CALDESC:The Youth Led Fact Fed Annual Conference is for grades 7-12. T
 here are both in-person and virtual options to attend. The in-person event
  will be held at the Benton Event Center. The conference will take place o
 n November 9\, 2022 from 9 AM - 2 PM.
X-WR-RELCALID:f349dfaffe2d69afe2ce83bb3329955a
X-WR-TIMEZONE:America/Chicago
BEGIN:VTIMEZONE
TZID:America/Chicago
BEGIN:STANDARD
TZNAME:CST
DTSTART:20211107T020000
TZOFFSETFROM:-0500
TZOFFSETTO:-0600
RDATE:20221106T020000
RDATE:20231105T020000
END:STANDARD
BEGIN:DAYLIGHT
TZNAME:CDT
DTSTART:20220313T020000
TZOFFSETFROM:-0600
TZOFFSETTO:-0500
RDATE:20230312T020000
RDATE:20240310T020000
END:DAYLIGHT
END:VTIMEZONE
BEGIN:VEVENT
UID:3cc20b36-a746-4d0c-87d6-467c3f1091ae
DTSTAMP:20260423T120329Z
DESCRIPTION:The Youth Led Fact Fed Annual Conference is for grades 7-12. Th
 ere are both in-person and virtual options to attend. The in-person event 
 will be held at the Benton Event Center. The conference will take place on
  November 9\, 2022 from 9 AM - 2 PM.
DTSTART;TZID=America/Chicago:20220930T000000
DTEND;TZID=America/Chicago:20220930T235900
LOCATION:
SUMMARY:Conference Registration Opens!
END:VEVENT
END:VCALENDAR
