BEGIN:VCALENDAR
VERSION:2.0
PRODID:-//projectpreventar.org//NONSGML kigkonsult.se iCalcreator 2.30.10//
CALSCALE:GREGORIAN
METHOD:PUBLISH
UID:b473553c-4386-43b1-8432-50b99cbf63e8
X-WR-CALDESC:Meeting ID: 950 8343 1193\nPasscode: 585013\n\nDial by your lo
 cation\n        +1 312 626 6799 US (Chicago)  \nMeeting ID: 950 8343 1193
 \nPasscode: 585013\n\n\n
X-WR-RELCALID:5e6bc59ef5768666869b894d6ff9c653
X-WR-TIMEZONE:America/Chicago
BEGIN:VTIMEZONE
TZID:America/Chicago
BEGIN:STANDARD
TZNAME:CST
DTSTART:20211107T020000
TZOFFSETFROM:-0500
TZOFFSETTO:-0600
RDATE:20221106T020000
RDATE:20231105T020000
END:STANDARD
BEGIN:DAYLIGHT
TZNAME:CDT
DTSTART:20220313T020000
TZOFFSETFROM:-0600
TZOFFSETTO:-0500
RDATE:20230312T020000
END:DAYLIGHT
END:VTIMEZONE
BEGIN:VEVENT
UID:0f73a589-58df-4222-8dd4-ef0101925919
DTSTAMP:20260423T121003Z
DESCRIPTION:Meeting ID: 950 8343 1193\nPasscode: 585013\n\nDial by your loc
 ation\n        +1 312 626 6799 US (Chicago)  \nMeeting ID: 950 8343 1193\n
 Passcode: 585013\n\n\n
DTSTART;TZID=America/Chicago:20220907T120000
DTEND;TZID=America/Chicago:20220907T123000
LOCATION:https://archildrens.zoom.us/j/95083431193?pwd=NE9PTEM0SlZrb0g4eFVi
 UzlZemM4QT09
SUMMARY:Project Prevent Statewide Meeting
END:VEVENT
END:VCALENDAR
