BEGIN:VCALENDAR
VERSION:2.0
PRODID:-//projectpreventar.org//NONSGML kigkonsult.se iCalcreator 2.30.10//
CALSCALE:GREGORIAN
METHOD:PUBLISH
UID:4dfd13a5-5bd2-413a-beea-0744e3af39a2
X-WR-CALDESC:
X-WR-RELCALID:b37853c5b4460353965a05c98007fb37
X-WR-TIMEZONE:America/Chicago
BEGIN:VTIMEZONE
TZID:America/Chicago
BEGIN:STANDARD
TZNAME:CST
DTSTART:20211107T020000
TZOFFSETFROM:-0500
TZOFFSETTO:-0600
RDATE:20221106T020000
RDATE:20231105T020000
END:STANDARD
BEGIN:DAYLIGHT
TZNAME:CDT
DTSTART:20220313T020000
TZOFFSETFROM:-0600
TZOFFSETTO:-0500
RDATE:20230312T020000
END:DAYLIGHT
END:VTIMEZONE
BEGIN:VEVENT
UID:d2cb00af-ba2a-4b2b-ba41-3f899d73054f
DTSTAMP:20260423T115521Z
DESCRIPTION:
DTSTART;TZID=America/Chicago:20220906T000000
DTEND;TZID=America/Chicago:20220906T235900
LOCATION:Click below to learn more!
SUMMARY:Ready. Set. Record. OPENS!
END:VEVENT
END:VCALENDAR
