BEGIN:VCALENDAR
VERSION:2.0
PRODID:-//projectpreventar.org//NONSGML kigkonsult.se iCalcreator 2.30.10//
CALSCALE:GREGORIAN
METHOD:PUBLISH
UID:48eca1f0-c7ab-4874-b7fa-f628ac5130be
X-WR-CALDESC:Next Generation Statewide Meeting \nJoin Zoom Meeting \nhttps:
 //archildrens.zoom.us/j/91925001873?pwd=QzZmTFJSejNoSmR0N08wcFYxU3Qxdz09 
 \nMeeting ID: 919 2500 1873 \nPasscode: 654647 \nDial: 1-312-626-6799\n
X-WR-RELCALID:2df547d6b586432a9ad307dac22b7060
X-WR-TIMEZONE:America/Chicago
BEGIN:VTIMEZONE
TZID:America/Chicago
BEGIN:STANDARD
TZNAME:CST
DTSTART:20211107T020000
TZOFFSETFROM:-0500
TZOFFSETTO:-0600
RDATE:20221106T020000
END:STANDARD
BEGIN:DAYLIGHT
TZNAME:CDT
DTSTART:20220313T020000
TZOFFSETFROM:-0600
TZOFFSETTO:-0500
RDATE:20230312T020000
END:DAYLIGHT
END:VTIMEZONE
BEGIN:VEVENT
UID:c3e9704a-ee19-40cc-9549-1cbf92ee4dc1
DTSTAMP:20260421T083019Z
DESCRIPTION:Next Generation Statewide Meeting \nJoin Zoom Meeting \nhttps:/
 /archildrens.zoom.us/j/91925001873?pwd=QzZmTFJSejNoSmR0N08wcFYxU3Qxdz09 \n
 Meeting ID: 919 2500 1873 \nPasscode: 654647 \nDial: 1-312-626-6799\n
DTSTART;TZID=America/Chicago:20220413T120000
DTEND;TZID=America/Chicago:20220413T123000
LOCATION:
SUMMARY:Next Generation Statewide Meeting
END:VEVENT
END:VCALENDAR
