BEGIN:VCALENDAR
VERSION:2.0
PRODID:-//projectpreventar.org//NONSGML kigkonsult.se iCalcreator 2.30.10//
CALSCALE:GREGORIAN
METHOD:PUBLISH
UID:263c5fae-c204-4287-8c71-16a1a3aa1d01
X-WR-CALDESC:
X-WR-RELCALID:78887c025f69eb9e69fc7767c552db26
X-WR-TIMEZONE:America/Chicago
BEGIN:VTIMEZONE
TZID:America/Chicago
BEGIN:STANDARD
TZNAME:CST
DTSTART:20201101T020000
TZOFFSETFROM:-0500
TZOFFSETTO:-0600
RDATE:20211107T020000
END:STANDARD
BEGIN:DAYLIGHT
TZNAME:CDT
DTSTART:20200308T020000
TZOFFSETFROM:-0600
TZOFFSETTO:-0500
RDATE:20210314T020000
RDATE:20220313T020000
END:DAYLIGHT
END:VTIMEZONE
BEGIN:VEVENT
UID:bcdd1f45-a863-4015-b75f-13f36e64f991
DTSTAMP:20260420T162621Z
DESCRIPTION:
DTSTART;TZID=America/Chicago:20210222T000000
DTEND;TZID=America/Chicago:20210226T235900
LOCATION:
SUMMARY:Through with Chew Week
END:VEVENT
END:VCALENDAR
